Package: psygenet2r
Version: 1.36.0
Maintainer: Alba Gutierrez-Sacristan
MaintainerEmail: a.gutierrez.sacristan at gmail.com
git_url: https://git.bioconductor.org/packages/psygenet2r
git_branch: RELEASE_3_19
git_last_commit: 5526530
git_last_commit_date: 2024-04-30 10:49:00 -0400 (Tue, 30 Apr 2024)