Package: projectR
Version: 1.20.0
Maintainer: Genevieve Stein-O'Brien
MaintainerEmail: gsteinobrien at gmail.com
git_url: https://git.bioconductor.org/packages/projectR
git_branch: RELEASE_3_19
git_last_commit: d729872
git_last_commit_date: 2024-04-30 11:13:19 -0400 (Tue, 30 Apr 2024)