Package: progeny
Version: 1.26.0
Maintainer: Aurélien Dugourd
MaintainerEmail: aurelien.dugourd at bioquant.uni-heidelberg.de
git_url: https://git.bioconductor.org/packages/progeny
git_branch: RELEASE_3_19
git_last_commit: 4643a88
git_last_commit_date: 2024-04-30 11:01:43 -0400 (Tue, 30 Apr 2024)