Package: procoil
Version: 2.32.0
Maintainer: Ulrich Bodenhofer
MaintainerEmail: ulrich at bodenhofer.com
git_url: https://git.bioconductor.org/packages/procoil
git_branch: RELEASE_3_19
git_last_commit: 9c62319
git_last_commit_date: 2024-04-30 10:23:34 -0400 (Tue, 30 Apr 2024)