Package: preciseTAD Version: 1.14.0 Maintainer: Mikhail Dozmorov MaintainerEmail: mikhail.dozmorov at gmail.com git_url: https://git.bioconductor.org/packages/preciseTAD git_branch: RELEASE_3_19 git_last_commit: f8f7c6f git_last_commit_date: 2024-04-30 11:27:10 -0400 (Tue, 30 Apr 2024)