Package: prebs Version: 1.44.0 Maintainer: Karolis Uziela MaintainerEmail: karolis.uziela at scilifelab.se git_url: https://git.bioconductor.org/packages/prebs git_branch: RELEASE_3_19 git_last_commit: 37d0288 git_last_commit_date: 2024-04-30 10:31:38 -0400 (Tue, 30 Apr 2024)