Package: ppcseq
Version: 1.12.0
Maintainer: Stefano Mangiola
MaintainerEmail: mangiolastefano at gmail.com
git_url: https://git.bioconductor.org/packages/ppcseq
git_branch: RELEASE_3_19
git_last_commit: f8f6b20
git_last_commit_date: 2024-04-30 11:33:22 -0400 (Tue, 30 Apr 2024)