##############################################################################
##############################################################################
###
### Running command:
###
###   /home/biocbuild/R/R-beta-2024-04-15_r86425/bin/R CMD INSTALL plotgardener
###
##############################################################################
##############################################################################


* installing to library ‘/home/biocbuild/R/R-beta-2024-04-15_r86425/site-library’
* installing *source* package ‘plotgardener’ ...
** using staged installation
** libs
using C++ compiler: ‘g++ (GCC) 10.3.1’
g++ -std=gnu++17 -I"/home/biocbuild/R/R-beta-2024-04-15_r86425/include" -DNDEBUG  -I'/home/biocbuild/R/R-beta-2024-04-15_r86425/site-library/Rcpp/include' -I/usr/local/include    -fPIC  -g -O2  -Wall  -c RcppExports.cpp -o RcppExports.o
g++ -std=gnu++17 -I"/home/biocbuild/R/R-beta-2024-04-15_r86425/include" -DNDEBUG  -I'/home/biocbuild/R/R-beta-2024-04-15_r86425/site-library/Rcpp/include' -I/usr/local/include    -fPIC  -g -O2  -Wall  -c checkRow.cpp -o checkRow.o
g++ -std=gnu++17 -I"/home/biocbuild/R/R-beta-2024-04-15_r86425/include" -DNDEBUG  -I'/home/biocbuild/R/R-beta-2024-04-15_r86425/site-library/Rcpp/include' -I/usr/local/include    -fPIC  -g -O2  -Wall  -c rebinBigwig.cpp -o rebinBigwig.o
g++ -std=gnu++17 -shared -L/home/biocbuild/R/R-beta-2024-04-15_r86425/lib -L/usr/local/lib -o plotgardener.so RcppExports.o checkRow.o rebinBigwig.o -L/home/biocbuild/R/R-beta-2024-04-15_r86425/lib -lR
installing to /home/biocbuild/R/R-beta-2024-04-15_r86425/site-library/00LOCK-plotgardener/00new/plotgardener/libs
** R
** inst
** byte-compile and prepare package for lazy loading
** help
*** installing help indices
*** copying figures
** building package indices
** installing vignettes
** testing if installed package can be loaded from temporary location
** checking absolute paths in shared objects and dynamic libraries
** testing if installed package can be loaded from final location
** testing if installed package keeps a record of temporary installation path
* DONE (plotgardener)