Package: plotgardener
Version: 1.10.0
Command: rm -rf plotgardener.buildbin-libdir && mkdir plotgardener.buildbin-libdir && /Users/biocbuild/BBS/utils/build-universal.sh plotgardener_1.10.0.tar.gz /Library/Frameworks/R.framework/Resources/bin/R plotgardener.buildbin-libdir
StartedAt: 2024-06-11 12:32:24 -0400 (Tue, 11 Jun 2024)
EndedAt: 2024-06-11 12:34:09 -0400 (Tue, 11 Jun 2024)
EllapsedTime: 104.5 seconds
RetCode: 0
Status: OK
PackageFile: plotgardener_1.10.0.tgz
PackageFileSize: 3.624 <A href="http://en.wikipedia.org/wiki/MiB" target="_blank">MiB</A>