Package: pickgene
Version: 1.76.0
Maintainer: Brian S. Yandell
MaintainerEmail: yandell at stat.wisc.edu
git_url: https://git.bioconductor.org/packages/pickgene
git_branch: RELEASE_3_19
git_last_commit: 6d7929c
git_last_commit_date: 2024-04-30 10:12:00 -0400 (Tue, 30 Apr 2024)