Package: piano
Version: 2.20.0
Maintainer: Leif Varemo Wigge
MaintainerEmail: piano.rpkg at gmail.com
git_url: https://git.bioconductor.org/packages/piano
git_branch: RELEASE_3_19
git_last_commit: 2427fea
git_last_commit_date: 2024-04-30 10:31:34 -0400 (Tue, 30 Apr 2024)