Package: phyloseq
Version: 1.48.0
Command: E:\biocbuild\bbs-3.19-bioc\R\bin\R.exe CMD INSTALL phyloseq
StartedAt: 2024-10-16 17:03:49 -0400 (Wed, 16 Oct 2024)
EndedAt: 2024-10-16 17:05:12 -0400 (Wed, 16 Oct 2024)
EllapsedTime: 83.0 seconds
RetCode: 0
Status: OK