Package: phyloseq
Version: 1.48.0
Command: rm -rf phyloseq.buildbin-libdir && mkdir phyloseq.buildbin-libdir && E:\biocbuild\bbs-3.19-bioc\R\bin\R.exe CMD INSTALL --build --library=phyloseq.buildbin-libdir phyloseq_1.48.0.tar.gz
StartedAt: 2024-10-17 08:20:58 -0400 (Thu, 17 Oct 2024)
EndedAt: 2024-10-17 08:22:43 -0400 (Thu, 17 Oct 2024)
EllapsedTime: 105.2 seconds
RetCode: 0
Status: OK
PackageFile: phyloseq_1.48.0.zip
PackageFileSize: 4.362 <A href="http://en.wikipedia.org/wiki/MiB" target="_blank">MiB</A>