Package: phyloseq
Version: 1.48.0
Command: /Library/Frameworks/R.framework/Resources/bin/R CMD INSTALL phyloseq
StartedAt: 2024-06-09 17:03:00 -0400 (Sun, 09 Jun 2024)
EndedAt: 2024-06-09 17:03:43 -0400 (Sun, 09 Jun 2024)
EllapsedTime: 42.7 seconds
RetCode: 0
Status: OK