Package: phyloseq
Version: 1.48.0
Command: /Library/Frameworks/R.framework/Resources/bin/R CMD build --keep-empty-dirs --no-resave-data phyloseq
StartedAt: 2024-06-10 02:34:04 -0400 (Mon, 10 Jun 2024)
EndedAt: 2024-06-10 02:36:22 -0400 (Mon, 10 Jun 2024)
EllapsedTime: 137.9 seconds
RetCode: 1
Status: ERROR
PackageFile: None
PackageFileSize: NA