Package: phenoTest
Version: 1.52.0
Maintainer: Evarist Planet
MaintainerEmail: evarist.planet at epfl.ch
git_url: https://git.bioconductor.org/packages/phenoTest
git_branch: RELEASE_3_19
git_last_commit: e009c83
git_last_commit_date: 2024-04-30 10:23:22 -0400 (Tue, 30 Apr 2024)