Package: phantasus
Version: 1.24.0
Maintainer: Alexey Sergushichev
MaintainerEmail: alsergbox at gmail.com
git_url: https://git.bioconductor.org/packages/phantasus
git_branch: RELEASE_3_19
git_last_commit: d2f95bd
git_last_commit_date: 2024-04-30 11:04:55 -0400 (Tue, 30 Apr 2024)