Package: pengls
Version: 1.10.0
Command: E:\biocbuild\bbs-3.19-bioc\R\bin\R.exe CMD INSTALL pengls
StartedAt: 2024-10-16 16:58:32 -0400 (Wed, 16 Oct 2024)
EndedAt: 2024-10-16 16:58:43 -0400 (Wed, 16 Oct 2024)
EllapsedTime: 10.8 seconds
RetCode: 0
Status: OK