Package: pengls Version: 1.10.0 Command: rm -rf pengls.buildbin-libdir && mkdir pengls.buildbin-libdir && E:\biocbuild\bbs-3.19-bioc\R\bin\R.exe CMD INSTALL --build --library=pengls.buildbin-libdir pengls_1.10.0.tar.gz StartedAt: 2024-10-17 08:20:12 -0400 (Thu, 17 Oct 2024) EndedAt: 2024-10-17 08:20:28 -0400 (Thu, 17 Oct 2024) EllapsedTime: 15.5 seconds RetCode: 0 Status: OK PackageFile: pengls_1.10.0.zip PackageFileSize: 62.8 <A href="http://en.wikipedia.org/wiki/KiB" target="_blank">KiB</A>