##############################################################################
##############################################################################
###
### Running command:
###
###   rm -rf pengls.buildbin-libdir && mkdir pengls.buildbin-libdir && E:\biocbuild\bbs-3.19-bioc\R\bin\R.exe CMD INSTALL --build --library=pengls.buildbin-libdir pengls_1.10.0.tar.gz
###
##############################################################################
##############################################################################


* installing *source* package 'pengls' ...
** using staged installation
** R
** inst
** byte-compile and prepare package for lazy loading
** help
*** installing help indices
** building package indices
** installing vignettes
** testing if installed package can be loaded from temporary location
** testing if installed package can be loaded from final location
** testing if installed package keeps a record of temporary installation path
* MD5 sums
packaged installation of 'pengls' as pengls_1.10.0.zip
* DONE (pengls)