Package: pengls
Version: 1.10.0
Command: /Library/Frameworks/R.framework/Resources/bin/R CMD check --install=check:pengls.install-out.txt --library=/Library/Frameworks/R.framework/Resources/library --no-vignettes --timings pengls_1.10.0.tar.gz
StartedAt: 2024-06-09 22:10:23 -0400 (Sun, 09 Jun 2024)
EndedAt: 2024-06-09 22:17:51 -0400 (Sun, 09 Jun 2024)
EllapsedTime: 447.6 seconds
RetCode: 0
Status: OK
CheckDir: pengls.Rcheck
Warnings: 0