Package: pdInfoBuilder
Version: 1.68.0
Maintainer: Benilton Carvalho
MaintainerEmail: benilton at unicamp.br
git_url: https://git.bioconductor.org/packages/pdInfoBuilder
git_branch: RELEASE_3_19
git_last_commit: 5fb57f8
git_last_commit_date: 2024-04-30 10:16:19 -0400 (Tue, 30 Apr 2024)