Package: pcxn
Version: 2.26.0
Maintainer: Sokratis Kariotis
MaintainerEmail: s.kariotis at sheffield.ac.uk
git_url: https://git.bioconductor.org/packages/pcxn
git_branch: RELEASE_3_19
git_last_commit: cf7a4c0
git_last_commit_date: 2024-04-30 11:02:12 -0400 (Tue, 30 Apr 2024)