Package: pathwayPCA
Version: 1.20.0
Maintainer: Gabriel Odom
MaintainerEmail: gabriel.odom at med.miami.edu
git_url: https://git.bioconductor.org/packages/pathwayPCA
git_branch: RELEASE_3_19
git_last_commit: 1ca6de6
git_last_commit_date: 2024-04-30 11:13:17 -0400 (Tue, 30 Apr 2024)