Package: pathview
Version: 1.44.0
Maintainer: Weijun Luo
MaintainerEmail: luo_weijun at yahoo.com
git_url: https://git.bioconductor.org/packages/pathview
git_branch: RELEASE_3_19
git_last_commit: 56f924a
git_last_commit_date: 2024-04-30 10:30:55 -0400 (Tue, 30 Apr 2024)