Package: pathlinkR
Version: 1.0.1
Command: rm -rf pathlinkR.buildbin-libdir && mkdir pathlinkR.buildbin-libdir && /Users/biocbuild/BBS/utils/build-universal.sh pathlinkR_1.0.1.tar.gz /Library/Frameworks/R.framework/Resources/bin/R pathlinkR.buildbin-libdir
StartedAt: 2024-10-17 16:48:54 -0400 (Thu, 17 Oct 2024)
EndedAt: 2024-10-17 16:49:36 -0400 (Thu, 17 Oct 2024)
EllapsedTime: 42.3 seconds
RetCode: 0
Status: OK
PackageFile: pathlinkR_1.0.1.tgz
PackageFileSize: 4.813 <A href="http://en.wikipedia.org/wiki/MiB" target="_blank">MiB</A>