Package: pathlinkR
Version: 1.0.0
Command: /Library/Frameworks/R.framework/Resources/bin/R CMD INSTALL pathlinkR
StartedAt: 2024-06-09 15:42:03 -0400 (Sun, 09 Jun 2024)
EndedAt: 2024-06-09 15:42:24 -0400 (Sun, 09 Jun 2024)
EllapsedTime: 20.3 seconds
RetCode: 0
Status: OK