Package: pathlinkR
Version: 1.0.0
Command: /Library/Frameworks/R.framework/Resources/bin/R CMD check --install=check:pathlinkR.install-out.txt --library=/Library/Frameworks/R.framework/Resources/library --no-vignettes --timings pathlinkR_1.0.0.tar.gz
StartedAt: 2024-06-09 22:08:25 -0400 (Sun, 09 Jun 2024)
EndedAt: 2024-06-09 22:13:53 -0400 (Sun, 09 Jun 2024)
EllapsedTime: 327.4 seconds
RetCode: 0
Status: OK
CheckDir: pathlinkR.Rcheck
Warnings: 0