Package: pathlinkR
Version: 1.0.0
Command: /Library/Frameworks/R.framework/Resources/bin/R CMD build --keep-empty-dirs --no-resave-data pathlinkR
StartedAt: 2024-06-09 17:39:42 -0400 (Sun, 09 Jun 2024)
EndedAt: 2024-06-09 17:44:46 -0400 (Sun, 09 Jun 2024)
EllapsedTime: 303.8 seconds
RetCode: 0
Status: OK
PackageFile: pathlinkR_1.0.0.tar.gz
PackageFileSize: 4.639 <A href="http://en.wikipedia.org/wiki/MiB" target="_blank">MiB</A>