Package: pathlinkR
Version: 1.0.0
Command: rm -rf pathlinkR.buildbin-libdir && mkdir pathlinkR.buildbin-libdir && /Users/biocbuild/BBS/utils/build-universal.sh pathlinkR_1.0.0.tar.gz /Library/Frameworks/R.framework/Resources/bin/R pathlinkR.buildbin-libdir
StartedAt: 2024-06-10 00:31:35 -0400 (Mon, 10 Jun 2024)
EndedAt: 2024-06-10 00:32:00 -0400 (Mon, 10 Jun 2024)
EllapsedTime: 25.0 seconds
RetCode: 0
Status: OK
PackageFile: pathlinkR_1.0.0.tgz
PackageFileSize: 4.758 <A href="http://en.wikipedia.org/wiki/MiB" target="_blank">MiB</A>