Package: pathlinkR
Version: 1.0.0
Command: /home/biocbuild/R/R-beta-2024-04-15_r86425/bin/R CMD INSTALL pathlinkR
StartedAt: 2024-05-08 21:04:28 -0000 (Wed, 08 May 2024)
EndedAt: 2024-05-08 21:04:47 -0000 (Wed, 08 May 2024)
EllapsedTime: 19.6 seconds
RetCode: 0
Status: OK