Package: pathlinkR
Version: 1.0.0
Command: /home/biocbuild/R/R-beta-2024-04-15_r86425/bin/R CMD check --install=check:pathlinkR.install-out.txt --library=/home/biocbuild/R/R-beta-2024-04-15_r86425/site-library --no-vignettes --timings pathlinkR_1.0.0.tar.gz
StartedAt: 2024-05-09 10:24:28 -0000 (Thu, 09 May 2024)
EndedAt: 2024-05-09 10:30:43 -0000 (Thu, 09 May 2024)
EllapsedTime: 374.7 seconds
RetCode: 0
Status: OK
CheckDir: pathlinkR.Rcheck
Warnings: 0