Package: pathRender
Version: 1.72.0
Maintainer: Vince Carey
MaintainerEmail: stvjc at channing.harvard.edu
git_url: https://git.bioconductor.org/packages/pathRender
git_branch: RELEASE_3_19
git_last_commit: 030a38a
git_last_commit_date: 2024-04-30 10:14:51 -0400 (Tue, 30 Apr 2024)