Package: partCNV
Version: 1.2.0
Command: rm -rf partCNV.buildbin-libdir && mkdir partCNV.buildbin-libdir && E:\biocbuild\bbs-3.19-bioc\R\bin\R.exe CMD INSTALL --build --library=partCNV.buildbin-libdir partCNV_1.2.0.tar.gz
StartedAt: 2024-10-17 08:19:30 -0400 (Thu, 17 Oct 2024)
EndedAt: 2024-10-17 08:20:24 -0400 (Thu, 17 Oct 2024)
EllapsedTime: 54.2 seconds
RetCode: 0
Status: OK
PackageFile: partCNV_1.2.0.zip
PackageFileSize: 4.514 <A href="http://en.wikipedia.org/wiki/MiB" target="_blank">MiB</A>