Package: partCNV Version: 1.2.0 Command: /Library/Frameworks/R.framework/Resources/bin/R CMD check --install=check:partCNV.install-out.txt --library=/Library/Frameworks/R.framework/Resources/library --no-vignettes --timings partCNV_1.2.0.tar.gz StartedAt: 2024-06-11 00:52:41 -0400 (Tue, 11 Jun 2024) EndedAt: 2024-06-11 01:02:49 -0400 (Tue, 11 Jun 2024) EllapsedTime: 608.2 seconds RetCode: 0 Status: OK CheckDir: partCNV.Rcheck Warnings: 0