Package: partCNV
Version: 1.2.0
Command: rm -rf partCNV.buildbin-libdir && mkdir partCNV.buildbin-libdir && /Users/biocbuild/BBS/utils/build-universal.sh partCNV_1.2.0.tar.gz /Library/Frameworks/R.framework/Resources/bin/R partCNV.buildbin-libdir
StartedAt: 2024-06-11 12:28:18 -0400 (Tue, 11 Jun 2024)
EndedAt: 2024-06-11 12:29:42 -0400 (Tue, 11 Jun 2024)
EllapsedTime: 84.4 seconds
RetCode: 0
Status: OK
PackageFile: partCNV_1.2.0.tgz
PackageFileSize: 4.663 <A href="http://en.wikipedia.org/wiki/MiB" target="_blank">MiB</A>