Package: pareg
Version: 1.8.0
Maintainer: Kim Philipp Jablonski
MaintainerEmail: kim.philipp.jablonski at gmail.com
git_url: https://git.bioconductor.org/packages/pareg
git_branch: RELEASE_3_19
git_last_commit: 8352b08
git_last_commit_date: 2024-04-30 11:41:46 -0400 (Tue, 30 Apr 2024)