Package: panp
Version: 1.74.0
Maintainer: Peter Warren
MaintainerEmail: peter.warren at verizon.net
git_url: https://git.bioconductor.org/packages/panp
git_branch: RELEASE_3_19
git_last_commit: 2763e2f
git_last_commit_date: 2024-04-30 10:14:48 -0400 (Tue, 30 Apr 2024)