Package: pandaR
Version: 1.36.0
Maintainer: Joseph N. Paulson <paulson.joseph@gene.com>, Dan Schlauch
MaintainerEmail: dschlauch at genospace.com
git_url: https://git.bioconductor.org/packages/pandaR
git_branch: RELEASE_3_19
git_last_commit: e103db2
git_last_commit_date: 2024-04-30 10:43:23 -0400 (Tue, 30 Apr 2024)