Package: oppti
Version: 1.18.0
Command: E:\biocbuild\bbs-3.19-bioc\R\bin\R.exe CMD INSTALL oppti
StartedAt: 2024-10-16 16:52:13 -0400 (Wed, 16 Oct 2024)
EndedAt: 2024-10-16 16:52:24 -0400 (Wed, 16 Oct 2024)
EllapsedTime: 10.8 seconds
RetCode: 0
Status: OK