Package: oppti
Version: 1.18.0
Command: F:\biocbuild\bbs-3.19-bioc\R\bin\R.exe CMD check --no-multiarch --install=check:oppti.install-out.txt --library=F:\biocbuild\bbs-3.19-bioc\R\library --no-vignettes --timings oppti_1.18.0.tar.gz
StartedAt: 2024-06-27 04:25:56 -0400 (Thu, 27 Jun 2024)
EndedAt: 2024-06-27 04:27:08 -0400 (Thu, 27 Jun 2024)
EllapsedTime: 72.5 seconds
RetCode: 0
Status: WARNINGS
CheckDir: oppti.Rcheck
Warnings: 1