Package: oppti
Version: 1.18.0
Command: /Library/Frameworks/R.framework/Resources/bin/R CMD INSTALL oppti
StartedAt: 2024-06-09 15:26:47 -0400 (Sun, 09 Jun 2024)
EndedAt: 2024-06-09 15:26:58 -0400 (Sun, 09 Jun 2024)
EllapsedTime: 10.9 seconds
RetCode: 0
Status: OK