Package: oppti
Version: 1.18.0
Command: rm -rf oppti.buildbin-libdir && mkdir oppti.buildbin-libdir && /Users/biocbuild/BBS/utils/build-universal.sh oppti_1.18.0.tar.gz /Library/Frameworks/R.framework/Resources/bin/R oppti.buildbin-libdir
StartedAt: 2024-06-10 00:31:00 -0400 (Mon, 10 Jun 2024)
EndedAt: 2024-06-10 00:31:12 -0400 (Mon, 10 Jun 2024)
EllapsedTime: 11.3 seconds
RetCode: 0
Status: OK
PackageFile: oppti_1.18.0.tgz
PackageFileSize: 100.5 <A href="http://en.wikipedia.org/wiki/KiB" target="_blank">KiB</A>