Package: openPrimeRui
Version: 1.26.0
Maintainer: Matthias Döring
MaintainerEmail: matthias-doering at gmx.de
git_url: https://git.bioconductor.org/packages/openPrimeRui
git_branch: RELEASE_3_19
git_last_commit: 480822b
git_last_commit_date: 2024-04-30 11:00:43 -0400 (Tue, 30 Apr 2024)