##############################################################################
##############################################################################
###
### Running command:
###
###   chmod a+r openCyto -R && E:\biocbuild\bbs-3.19-bioc\R\bin\R.exe CMD build --keep-empty-dirs --no-resave-data openCyto
###
##############################################################################
##############################################################################


* checking for file 'openCyto/DESCRIPTION' ... OK
* preparing 'openCyto':
* checking DESCRIPTION meta-information ... OK
* cleaning src
* installing the package to build vignettes
* creating vignettes ... OK
* cleaning src
* checking for LF line-endings in source and make files and shell scripts
* checking for empty or unneeded directories
  NB: this package now depends on R (>= 3.5.0)
  WARNING: Added dependency on R >= 3.5.0 because serialized objects in
  serialize/load version 3 cannot be read in older versions of R.
  File(s) containing such objects:
    'openCyto/tests/testthat/expectResults.rds'
* building 'openCyto_2.16.1.tar.gz'