Package: openCyto
Version: 2.16.1
Command: /Library/Frameworks/R.framework/Resources/bin/R CMD INSTALL openCyto
StartedAt: 2024-10-16 16:06:55 -0400 (Wed, 16 Oct 2024)
EndedAt: 2024-10-16 16:07:25 -0400 (Wed, 16 Oct 2024)
EllapsedTime: 29.5 seconds
RetCode: 0
Status: OK