Package: openCyto Version: 2.16.1 Maintainer: Mike Jiang MaintainerEmail: mike at ozette.com git_url: https://git.bioconductor.org/packages/openCyto git_branch: RELEASE_3_19 git_last_commit: 4df4f65 git_last_commit_date: 2024-05-14 15:19:58 -0400 (Tue, 14 May 2024)