Package: onlineFDR
Version: 2.12.0
Maintainer: David S. Robertson
MaintainerEmail: david.robertson at mrc-bsu.cam.ac.uk
git_url: https://git.bioconductor.org/packages/onlineFDR
git_branch: RELEASE_3_19
git_last_commit: f8cdee3
git_last_commit_date: 2024-04-30 11:07:14 -0400 (Tue, 30 Apr 2024)