Package: oncoscanR
Version: 1.6.0
Maintainer: Yann Christinat
MaintainerEmail: yann.christinat at hcuge.ch
git_url: https://git.bioconductor.org/packages/oncoscanR
git_branch: RELEASE_3_19
git_last_commit: 628c6b8
git_last_commit_date: 2024-04-30 11:43:58 -0400 (Tue, 30 Apr 2024)