Package: oncomix
Version: 1.26.0
Maintainer: Daniel Pique
MaintainerEmail: daniel.pique at med.einstein.yu.edu
git_url: https://git.bioconductor.org/packages/oncomix
git_branch: RELEASE_3_19
git_last_commit: a0c2c6c
git_last_commit_date: 2024-04-30 11:02:16 -0400 (Tue, 30 Apr 2024)